BEGIN:VCALENDAR
VERSION:2.0
PRODID:-//Squarespace Inc/Squarespace 6//v6//EN
BEGIN:VEVENT
UID:58345c6fe4fcb515c7c37f0b@squarespace.com
DTSTAMP:20161122T145708Z
DTSTART:20170120T150000Z
DTEND:20170120T180000Z
SUMMARY:Drum Clinic Ages 13 - 18
END:VEVENT
END:VCALENDAR
