BEGIN:VCALENDAR
VERSION:2.0
PRODID:-//Squarespace Inc/Squarespace 6//v6//EN
BEGIN:VEVENT
UID:583442f2197aeae4d07f9b27@squarespace.com
DTSTAMP:20161122T132206Z
DTSTART:20161214T230000Z
DTEND:20161215T023000Z
SUMMARY:Term 4 Gig - #1
END:VEVENT
END:VCALENDAR
