BEGIN:VCALENDAR
VERSION:2.0
PRODID:-//Squarespace Inc/Squarespace 6//v6//EN
BEGIN:VEVENT
UID:5834417f5016e17f5b5e10f5@squarespace.com
DTSTAMP:20161122T132056Z
DTSTART:20161215T230000Z
DTEND:20161216T023000Z
SUMMARY:Term 4 Gig - #2
END:VEVENT
END:VCALENDAR
