BEGIN:VCALENDAR
VERSION:2.0
PRODID:-//Squarespace Inc/Squarespace 6//v6//EN
BEGIN:VEVENT
UID:583446f103596e18e28e9864@squarespace.com
DTSTAMP:20161122T144128Z
DTSTART:20161216T110000Z
DTEND:20161216T120000Z
SUMMARY:END OF TERM
END:VEVENT
END:VCALENDAR
