BEGIN:VCALENDAR
VERSION:2.0
PRODID:-//Squarespace Inc/Squarespace 6//v6//EN
BEGIN:VEVENT
UID:58351a94b3db2bbc3061e62e@squarespace.com
DTSTAMP:20161123T043307Z
DTSTART:20161218T140000Z
DTEND:20161223T220000Z
SUMMARY:Sly Withers Recording
END:VEVENT
END:VCALENDAR
