BEGIN:VCALENDAR
VERSION:2.0
PRODID:-//Squarespace Inc/Squarespace 6//v6//EN
BEGIN:VEVENT
UID:58344186d2b857db561bd36b@squarespace.com
DTSTAMP:20161122T130633Z
DTSTART:20161203T170000Z
DTEND:20161204T010000Z
SUMMARY:Festivus and Rock Scholars Awards for 2016
END:VEVENT
END:VCALENDAR
