BEGIN:VCALENDAR
VERSION:2.0
PRODID:-//Squarespace Inc/Squarespace 6//v6//EN
BEGIN:VEVENT
UID:58344832cd0f680da835b622@squarespace.com
DTSTAMP:20161122T145943Z
DTSTART:20170110T150000Z
DTEND:20170110T180000Z
SUMMARY:Guitar Masterclass Lesson #1
END:VEVENT
END:VCALENDAR
