BEGIN:VCALENDAR
VERSION:2.0
PRODID:-//Squarespace Inc/Squarespace 6//v6//EN
BEGIN:VEVENT
UID:583448725016e17f5b5e4d28@squarespace.com
DTSTAMP:20161122T144421Z
DTSTART:20170111T150000Z
DTEND:20170111T180000Z
SUMMARY:Open Jam Session - Age 13 to 18
END:VEVENT
END:VCALENDAR
