BEGIN:VCALENDAR
VERSION:2.0
PRODID:-//Squarespace Inc/Squarespace 6//v6//EN
BEGIN:VEVENT
UID:583448d68419c21b8542ed65@squarespace.com
DTSTAMP:20161122T150005Z
DTSTART:20170112T150000Z
DTEND:20170112T180000Z
SUMMARY:Guitar Masterclass Lesson #2
END:VEVENT
END:VCALENDAR
