BEGIN:VCALENDAR
VERSION:2.0
PRODID:-//Squarespace Inc/Squarespace 6//v6//EN
BEGIN:VEVENT
UID:58344926414fb5cba96cf45b@squarespace.com
DTSTAMP:20170116T162126Z
DTSTART:20170117T230000Z
DTEND:20170118T020000Z
SUMMARY:Scholarpalooza! Heat #1
END:VEVENT
END:VCALENDAR
