BEGIN:VCALENDAR
VERSION:2.0
PRODID:-//Squarespace Inc/Squarespace 6//v6//EN
BEGIN:VEVENT
UID:58344961414fb5cba96cf64e@squarespace.com
DTSTAMP:20161122T145352Z
DTSTART:20170113T150000Z
DTEND:20170113T180000Z
SUMMARY:Drum Clinic - Age 12 and under
END:VEVENT
END:VCALENDAR
