BEGIN:VCALENDAR
VERSION:2.0
PRODID:-//Squarespace Inc/Squarespace 6//v6//EN
BEGIN:VEVENT
UID:583449989f74566d79972aca@squarespace.com
DTSTAMP:20161122T144458Z
DTSTART:20170116T150000Z
DTEND:20170116T180000Z
SUMMARY:Open Jam Session
END:VEVENT
END:VCALENDAR
