BEGIN:VCALENDAR
VERSION:2.0
PRODID:-//Squarespace Inc/Squarespace 6//v6//EN
BEGIN:VEVENT
UID:587cf0de5016e17a1d44ee48@squarespace.com
DTSTAMP:20170116T162149Z
DTSTART:20170116T163000Z
DTEND:20170116T173000Z
SUMMARY:Rock Scholars at Hyperfest
END:VEVENT
END:VCALENDAR
