BEGIN:VCALENDAR
VERSION:2.0
PRODID:-//Squarespace Inc/Squarespace 6//v6//EN
BEGIN:VEVENT
UID:58344a3ee58c62439fdb9dcf@squarespace.com
DTSTAMP:20161122T144656Z
DTSTART:20170118T150000Z
DTEND:20170118T180000Z
SUMMARY:Open Jam Session - Age 13 - 18
END:VEVENT
END:VCALENDAR
