BEGIN:VCALENDAR
VERSION:2.0
PRODID:-//Squarespace Inc/Squarespace 6//v6//EN
BEGIN:VEVENT
UID:58344ac1b8a79b8a20169201@squarespace.com
DTSTAMP:20161122T144752Z
DTSTART:20170119T230000Z
DTEND:20170120T020000Z
SUMMARY:Scholarpalooza! Heat #2
END:VEVENT
END:VCALENDAR
