BEGIN:VCALENDAR
VERSION:2.0
PRODID:-//Squarespace Inc/Squarespace 6//v6//EN
BEGIN:VEVENT
UID:587cf264bebafbe8c6bf5b35@squarespace.com
DTSTAMP:20170116T162007Z
DTSTART:20170123T150000Z
DTEND:20170123T180000Z
SUMMARY:Jam Session
END:VEVENT
END:VCALENDAR
