BEGIN:VCALENDAR
VERSION:2.0
PRODID:-//Squarespace Inc/Squarespace 6//v6//EN
BEGIN:VEVENT
UID:58344ba3414fb5cba96d05b5@squarespace.com
DTSTAMP:20161122T144816Z
DTSTART:20170124T230000Z
DTEND:20170125T020000Z
SUMMARY:Scholarpalooza! Heat #3
END:VEVENT
END:VCALENDAR
