BEGIN:VCALENDAR
VERSION:2.0
PRODID:-//Squarespace Inc/Squarespace 6//v6//EN
BEGIN:VEVENT
UID:58344775cd0f680da835af3c@squarespace.com
DTSTAMP:20161122T144348Z
DTSTART:20170109T150000Z
DTEND:20170109T180000Z
SUMMARY:Open Jam Session
END:VEVENT
END:VCALENDAR
