BEGIN:VCALENDAR
VERSION:2.0
PRODID:-//Squarespace Inc/Squarespace 6//v6//EN
BEGIN:VEVENT
UID:58344ddf725e25be0e32f5f3@squarespace.com
DTSTAMP:20161122T144900Z
DTSTART:20170211T230000Z
DTEND:20170212T030000Z
SUMMARY:Scholarpalooza! GRAND FINAL
END:VEVENT
END:VCALENDAR
