BEGIN:VCALENDAR
VERSION:2.0
PRODID:-//Squarespace Inc/Squarespace 6//v6//EN
BEGIN:VEVENT
UID:58344c58cd0f680da835d68a@squarespace.com
DTSTAMP:20161122T144838Z
DTSTART:20170203T230000Z
DTEND:20170204T020000Z
SUMMARY:Scholarpalooza! Heat #4
END:VEVENT
END:VCALENDAR
