BEGIN:VCALENDAR
VERSION:2.0
PRODID:-//Squarespace Inc/Squarespace 6//v6//EN
BEGIN:VEVENT
UID:58d3d84a59cc687828b08864@squarespace.com
DTSTAMP:20170323T142321Z
DTSTART:20170408T170000Z
DTEND:20170408T220000Z
SUMMARY:End of term gig No. 2
END:VEVENT
END:VCALENDAR
