BEGIN:VCALENDAR
VERSION:2.0
PRODID:-//Squarespace Inc/Squarespace 6//v6//EN
BEGIN:VEVENT
UID:58d3da70725e25f7c63ce676@squarespace.com
DTSTAMP:20170323T150513Z
DTSTART:20170410T140000Z
DTEND:20170410T170000Z
SUMMARY:Jam Session
END:VEVENT
END:VCALENDAR
