BEGIN:VCALENDAR
VERSION:2.0
PRODID:-//Squarespace Inc/Squarespace 6//v6//EN
BEGIN:VEVENT
UID:58d3db9020099e1b036fcf15@squarespace.com
DTSTAMP:20170323T145800Z
DTSTART:20170411T140000Z
DTEND:20170411T170000Z
SUMMARY:Jam Session
END:VEVENT
END:VCALENDAR
