BEGIN:VCALENDAR
VERSION:2.0
PRODID:-//Squarespace Inc/Squarespace 6//v6//EN
BEGIN:VEVENT
UID:58d3dc3ccd0f68ac6fe3fc5e@squarespace.com
DTSTAMP:20170323T143404Z
DTSTART:20170412T140000Z
DTEND:20170412T170000Z
SUMMARY:Jam Session
END:VEVENT
END:VCALENDAR
