BEGIN:VCALENDAR
VERSION:2.0
PRODID:-//Squarespace Inc/Squarespace 6//v6//EN
BEGIN:VEVENT
UID:58d3dd66cd0f68ac6fe40c40@squarespace.com
DTSTAMP:20170323T144347Z
DTSTART:20170421T140000Z
DTEND:20170424T210000Z
SUMMARY:Fairbridge Festival
END:VEVENT
END:VCALENDAR
