BEGIN:VCALENDAR
VERSION:2.0
PRODID:-//Squarespace Inc/Squarespace 6//v6//EN
BEGIN:VEVENT
UID:58d3df81f7e0ab731dd0275f@squarespace.com
DTSTAMP:20170323T144748Z
DTSTART:20170427T110000Z
DTEND:20170428T030000Z
SUMMARY:Sam's Birthday
END:VEVENT
END:VCALENDAR
