BEGIN:VCALENDAR
VERSION:2.0
PRODID:-//Squarespace Inc/Squarespace 6//v6//EN
BEGIN:VEVENT
UID:593eabef8419c2335f218237@squarespace.com
DTSTAMP:20170612T150535Z
DTSTART:20170623T220000Z
DTEND:20170624T020000Z
SUMMARY:The Faux - EP launch
END:VEVENT
END:VCALENDAR
