BEGIN:VCALENDAR
VERSION:2.0
PRODID:-//Squarespace Inc/Squarespace 6//v6//EN
BEGIN:VEVENT
UID:591b08b815d5db5d1f7da1a5@squarespace.com
DTSTAMP:20170516T141956Z
DTSTART:20170624T200000Z
DTEND:20170625T010000Z
SUMMARY:End of Term gig
END:VEVENT
END:VCALENDAR
