BEGIN:VCALENDAR
VERSION:2.0
PRODID:-//Squarespace Inc/Squarespace 6//v6//EN
BEGIN:VEVENT
UID:591b09ddebbd1a4d3e7922e1@squarespace.com
DTSTAMP:20170516T141832Z
DTSTART:20170630T220000Z
DTEND:20170701T020000Z
SUMMARY:End of Term Gig
END:VEVENT
END:VCALENDAR
