BEGIN:VCALENDAR
VERSION:2.0
PRODID:-//Squarespace Inc/Squarespace 6//v6//EN
BEGIN:VEVENT
UID:593eacec9f7456a41ec6c975@squarespace.com
DTSTAMP:20170612T150627Z
DTSTART:20170701T133000Z
DTEND:20170701T143000Z
SUMMARY:Last day of Term 2
END:VEVENT
END:VCALENDAR
