BEGIN:VCALENDAR
VERSION:2.0
PRODID:-//Squarespace Inc/Squarespace 6//v6//EN
BEGIN:VEVENT
UID:593eaa93e3df286fa0088567@squarespace.com
DTSTAMP:20170612T145301Z
DTSTART:20170711T170000Z
DTEND:20170711T200000Z
SUMMARY:Jam Session - 13 and under
END:VEVENT
END:VCALENDAR
