BEGIN:VCALENDAR
VERSION:2.0
PRODID:-//Squarespace Inc/Squarespace 6//v6//EN
BEGIN:VEVENT
UID:593eaa161b10e33a7a3fd5d5@squarespace.com
DTSTAMP:20170612T145152Z
DTSTART:20170706T140000Z
DTEND:20170706T170000Z
SUMMARY:Jam Session - 13 and under
END:VEVENT
END:VCALENDAR
