BEGIN:VCALENDAR
VERSION:2.0
PRODID:-//Squarespace Inc/Squarespace 6//v6//EN
BEGIN:VEVENT
UID:593ea9aae3df286fa00872e0@squarespace.com
DTSTAMP:20170612T145125Z
DTSTART:20170704T170000Z
DTEND:20170704T200000Z
SUMMARY:Jam Session - 13 and under
END:VEVENT
END:VCALENDAR
