BEGIN:VCALENDAR
VERSION:2.0
PRODID:-//Squarespace Inc/Squarespace 6//v6//EN
BEGIN:VEVENT
UID:593eab30e58c62c93bd8f6a7@squarespace.com
DTSTAMP:20170612T145741Z
DTSTART:20170705T180000Z
DTEND:20170705T210000Z
SUMMARY:Jam Session - 14 - 18
END:VEVENT
END:VCALENDAR
