BEGIN:VCALENDAR
VERSION:2.0
PRODID:-//Squarespace Inc/Squarespace 6//v6//EN
BEGIN:VEVENT
UID:593eac55bf629a6afeede03a@squarespace.com
DTSTAMP:20170612T150150Z
DTSTART:20170707T220000Z
DTEND:20170708T020000Z
SUMMARY:Wooly Mammoth and friends
END:VEVENT
END:VCALENDAR
